BEGIN:VCALENDAR
VERSION:2.0
PRODID:-//Cooper River Indivisible - ECPv6.15.20//NONSGML v1.0//EN
CALSCALE:GREGORIAN
METHOD:PUBLISH
X-WR-CALNAME:Cooper River Indivisible
X-ORIGINAL-URL:https://crinj.org
X-WR-CALDESC:Events for Cooper River Indivisible
REFRESH-INTERVAL;VALUE=DURATION:PT1H
X-Robots-Tag:noindex
X-PUBLISHED-TTL:PT1H
BEGIN:VTIMEZONE
TZID:America/New_York
BEGIN:DAYLIGHT
TZOFFSETFROM:-0500
TZOFFSETTO:-0400
TZNAME:EDT
DTSTART:20240310T070000
END:DAYLIGHT
BEGIN:STANDARD
TZOFFSETFROM:-0400
TZOFFSETTO:-0500
TZNAME:EST
DTSTART:20241103T060000
END:STANDARD
BEGIN:DAYLIGHT
TZOFFSETFROM:-0500
TZOFFSETTO:-0400
TZNAME:EDT
DTSTART:20250309T070000
END:DAYLIGHT
BEGIN:STANDARD
TZOFFSETFROM:-0400
TZOFFSETTO:-0500
TZNAME:EST
DTSTART:20251102T060000
END:STANDARD
BEGIN:DAYLIGHT
TZOFFSETFROM:-0500
TZOFFSETTO:-0400
TZNAME:EDT
DTSTART:20260308T070000
END:DAYLIGHT
BEGIN:STANDARD
TZOFFSETFROM:-0400
TZOFFSETTO:-0500
TZNAME:EST
DTSTART:20261101T060000
END:STANDARD
END:VTIMEZONE
BEGIN:VEVENT
DTSTART;TZID=America/New_York:20251201T080000
DTEND;TZID=America/New_York:20251201T160000
DTSTAMP:20260425T095859
CREATED:20251128T232821Z
LAST-MODIFIED:20251128T232821Z
UID:1211-1764576000-1764604800@crinj.org
SUMMARY:Lobby For New Jersey Immigrant Trust Act
DESCRIPTION:The NJ Immigrant Trust Act is incredibly important and has been languishing in the state legislature for years. We have a very short period of time to get the act passed during this lame duck session\, so it’s an all -hands-on-deck moment across the state. \nWe need volunteers to go to Trenton together and lobby for this bill. You do not need to have any lobbying experience — nor is an understanding of how the legislature works or the bill itself essential. We will learn together. I’ve only lobbied one time. \nThere are organizations that will serve as the lead each day\, and we will connect with them. Getting numbers of people is very important — even just to be a presence. And remember: the legislators work for us. \nIf you are interested in carpooling with us\, please let us know.
URL:https://crinj.org/event/lobby-for-new-jersey-immigrant-trust-act-2/
LOCATION:State House Annex\, 131 - 137 West State Street\, Trenton\, NJ\, United States
CATEGORIES:Advocacy Event
END:VEVENT
END:VCALENDAR