BEGIN:VCALENDAR
VERSION:2.0
PRODID:-//Cooper River Indivisible - ECPv6.15.20//NONSGML v1.0//EN
CALSCALE:GREGORIAN
METHOD:PUBLISH
X-WR-CALNAME:Cooper River Indivisible
X-ORIGINAL-URL:https://crinj.org
X-WR-CALDESC:Events for Cooper River Indivisible
REFRESH-INTERVAL;VALUE=DURATION:PT1H
X-Robots-Tag:noindex
X-PUBLISHED-TTL:PT1H
BEGIN:VTIMEZONE
TZID:America/New_York
BEGIN:DAYLIGHT
TZOFFSETFROM:-0500
TZOFFSETTO:-0400
TZNAME:EDT
DTSTART:20250309T070000
END:DAYLIGHT
BEGIN:STANDARD
TZOFFSETFROM:-0400
TZOFFSETTO:-0500
TZNAME:EST
DTSTART:20251102T060000
END:STANDARD
BEGIN:DAYLIGHT
TZOFFSETFROM:-0500
TZOFFSETTO:-0400
TZNAME:EDT
DTSTART:20260308T070000
END:DAYLIGHT
BEGIN:STANDARD
TZOFFSETFROM:-0400
TZOFFSETTO:-0500
TZNAME:EST
DTSTART:20261101T060000
END:STANDARD
BEGIN:DAYLIGHT
TZOFFSETFROM:-0500
TZOFFSETTO:-0400
TZNAME:EDT
DTSTART:20270314T070000
END:DAYLIGHT
BEGIN:STANDARD
TZOFFSETFROM:-0400
TZOFFSETTO:-0500
TZNAME:EST
DTSTART:20271107T060000
END:STANDARD
END:VTIMEZONE
BEGIN:VEVENT
DTSTART;TZID=America/New_York:20260124T110000
DTEND;TZID=America/New_York:20260124T123000
DTSTAMP:20260425T113325
CREATED:20260119T214841Z
LAST-MODIFIED:20260119T214841Z
UID:1672-1769252400-1769257800@crinj.org
SUMMARY:Citizens vs. Citizens Bank--Stop Funding ICE Detention Centers!
DESCRIPTION:Citizens Bank is a major lender to Geo Group and Core Civic\, both of whom run private prisons and detention facilities like Delany Hall in Newark\, Elizabeth Detention in Elizabeth NJ\, and Moshannon in Pennsylvania. \nAfter ICE abducts our friends and neighbors\, Delaney Hall\, Elizabeth Detention Center and Moshannon are where most of them are taken. There\, they are subject to abuses such inhumane living conditions\, severe medical neglect\, abusive treatment from guards\, poor food/water quality and more all while these corporations make record profits off of the suffering of human beings. \nThis must stop. \nJoin us in peacefully protesting their complicity. Bring your signs and your voice. \nPS. When parking\, let’s spread out in the lots behind Citizen’s Bank.
URL:https://crinj.org/event/citizens-vs-citizens-bank-stop-funding-ice-detention-centers-2/
LOCATION:2030 NJ-70\, 2030 NJ-70\, Cherry Hill\, NJ\, 08002\, United States
CATEGORIES:Advocacy Event
END:VEVENT
BEGIN:VEVENT
DTSTART;TZID=America/New_York:20260207T110000
DTEND;TZID=America/New_York:20260207T123000
DTSTAMP:20260425T113325
CREATED:20260127T140801Z
LAST-MODIFIED:20260220T180409Z
UID:1760-1770462000-1770467400@crinj.org
SUMMARY:Citizens vs. Citizens Bank--Stop Funding ICE Detention Centers!
DESCRIPTION:Citizens Bank is a major lender to Geo Group and Core Civic\, both of whom run private prisons and detention facilities like Delany Hall in Newark\, Elizabeth Detention in Elizabeth NJ\, and Moshannon in Pennsylvania. \nAfter ICE abducts our friends and neighbors\, Delaney Hall\, Elizabeth Detention Center and Moshannon are where most of them are taken. There\, they are subject to abuses such inhumane living conditions\, severe medical neglect\, abusive treatment from guards\, poor food/water quality and more all while these corporations make record profits off of the suffering of human beings. \nThis must stop. \nJoin us in peacefully protesting their complicity. Bring signs specific to this action so we can spread the word! \nFor example: –De-ICE Citizens Bank –Cages aren’t Communities –Stop Financing Ice Prisons –Citizen Bank-Cut Ties with ICE Prisons \nFeel to free to print these signs! \nPS. When parking\, let’s spread out in the lots behind Citizen’s Bank.
URL:https://crinj.org/event/citizens-vs-citizens-bank-stop-funding-ice-detention-centers-3/
LOCATION:2030 NJ-70\, 2030 NJ-70\, Cherry Hill\, NJ\, 08002\, United States
CATEGORIES:Advocacy Event
END:VEVENT
BEGIN:VEVENT
DTSTART;TZID=America/New_York:20260221T110000
DTEND;TZID=America/New_York:20260221T123000
DTSTAMP:20260425T113325
CREATED:20260220T180430Z
LAST-MODIFIED:20260220T180430Z
UID:1966-1771671600-1771677000@crinj.org
SUMMARY:Citizens vs. Citizens Bank--Stop Funding ICE Detention Centers!
DESCRIPTION:Citizens Bank is a major lender to Geo Group and Core Civic\, both of whom run private prisons and detention facilities like Delany Hall in Newark\, Elizabeth Detention in Elizabeth NJ\, and Moshannon in Pennsylvania. \nAfter ICE abducts our friends and neighbors\, Delaney Hall\, Elizabeth Detention Center and Moshannon are where most of them are taken. There\, they are subject to abuses such inhumane living conditions\, severe medical neglect\, abusive treatment from guards\, poor food/water quality and more all while these corporations make record profits off of the suffering of human beings. \nThis must stop. \nJoin us in peacefully protesting their complicity. Bring signs specific to this action so we can spread the word! \nFor example: –De-ICE Citizens Bank –Cages aren’t Communities –Stop Financing Ice Prisons –Citizen Bank-Cut Ties with ICE Prisons \nFeel to free to print these signs! \nPS. When parking\, let’s spread out in the lots behind Citizen’s Bank.
URL:https://crinj.org/event/citizens-vs-citizens-bank-stop-funding-ice-detention-centers-4/
LOCATION:2030 NJ-70\, 2030 NJ-70\, Cherry Hill\, NJ\, 08002\, United States
CATEGORIES:Advocacy Event
END:VEVENT
BEGIN:VEVENT
DTSTART;TZID=America/New_York:20260307T110000
DTEND;TZID=America/New_York:20260307T123000
DTSTAMP:20260425T113325
CREATED:20260303T010712Z
LAST-MODIFIED:20260303T010720Z
UID:2034-1772881200-1772886600@crinj.org
SUMMARY:Citizens vs. Citizens Bank--Stop Funding ICE Detention Centers!
DESCRIPTION:Citizens Bank is a major lender to Geo Group and Core Civic\, both of whom run private prisons and detention facilities like Delany Hall in Newark\, Elizabeth Detention in Elizabeth NJ\, and Moshannon in Pennsylvania. \nAfter ICE abducts our friends and neighbors\, Delaney Hall\, Elizabeth Detention Center and Moshannon are where most of them are taken. There\, they are subject to abuses such inhumane living conditions\, severe medical neglect\, abusive treatment from guards\, poor food/water quality and more all while these corporations make record profits off of the suffering of human beings. \nThis must stop. \nJoin us in peacefully protesting their complicity. Bring signs specific to this action so we can spread the word! \nFor example: –De-ICE Citizens Bank –Cages aren’t Communities –Stop Financing Ice Prisons –Citizen Bank-Cut Ties with ICE Prisons \nFeel to free to print these signs! \nPS. When parking\, let’s spread out in the lots behind Citizen’s Bank.
URL:https://crinj.org/event/citizens-vs-citizens-bank-stop-funding-ice-detention-centers-5/
LOCATION:2030 NJ-70\, 2030 NJ-70\, Cherry Hill\, NJ\, 08002\, United States
CATEGORIES:Advocacy Event
END:VEVENT
BEGIN:VEVENT
DTSTART;TZID=America/New_York:20260321T083000
DTEND;TZID=America/New_York:20260321T110000
DTSTAMP:20260425T113325
CREATED:20260317T235248Z
LAST-MODIFIED:20260317T235248Z
UID:2155-1774081800-1774090800@crinj.org
SUMMARY:We're Taking the Protest to the Citizens Bank Park! Meet us at 8:30am!
DESCRIPTION:Hey folks! \nWe’re taking our protest to the park! The Phillies are hosting their 5k and we will be cheering the participants AND letting them know the Citizens Bank is a major lender to Geo Group and Core Civic\, both of whom run private prisons and detention facilities like Delany Hall in Newark\, Elizabeth Detention in Elizabeth\, NJ\, and Moshannon in Pennsylvania. \nWe Phillies fans won’t stand for this kind of cruelty!! \nAfter ICE abducts our friends and neighbors\, Delaney Hall\, Elizabeth Detention Center\, and Moshannon are where most of them are taken. There\, they are subject to abuses such as inhumane living conditions\, severe medical neglect\, abusive treatment from guards\, poor food/water quality\, and more\, all while these corporations make record profits off the suffering of human beings. \nThis must stop. \nJoin us in peacefully protesting their complicity. Bring signs specific to this action so we can spread the word! \nFor example: –De-ICE Citizens Bank –Cages aren’t Communities –Stop Financing Ice Prisons –Citizen Bank-Cut Ties with ICE Prisons \nGo to www.crinj.org for free printable signs! \nParking will be difficult. Take public transportation! Car Pool! Reach out if you need help! \nPS. The mobilize won’t let us choose 8:30am….but we will be there!!!
URL:https://crinj.org/event/were-taking-the-protest-to-the-citizens-bank-park-meet-us-at-830am/
LOCATION:Citizens Bank Park (Philly)\, Phillies Drive & Broad Street\, Philadelphia\, PA\, 19145\, United States
CATEGORIES:Advocacy Event
END:VEVENT
BEGIN:VEVENT
DTSTART;TZID=America/New_York:20260418T110000
DTEND;TZID=America/New_York:20260418T123000
DTSTAMP:20260425T113325
CREATED:20260415T133807Z
LAST-MODIFIED:20260415T133807Z
UID:2334-1776510000-1776515400@crinj.org
SUMMARY:Citizens vs. Citizens Bank--Stop Funding ICE Detention Centers!
DESCRIPTION:Citizens Bank is a major lender to Geo Group and Core Civic\, both of whom run private prisons and detention facilities like Delany Hall in Newark\, Elizabeth Detention in Elizabeth NJ\, and Moshannon in Pennsylvania. \nAfter ICE abducts our friends and neighbors\, Delaney Hall\, Elizabeth Detention Center and Moshannon are where most of them are taken. There\, they are subject to abuses such inhumane living conditions\, severe medical neglect\, abusive treatment from guards\, poor food/water quality and more all while these corporations make record profits off of the suffering of human beings. \nThis must stop. \nJoin us in peacefully protesting their complicity. Bring signs specific to this action so we can spread the word! \nFor example: –De-ICE Citizens Bank –Cages aren’t Communities –Stop Financing Ice Prisons –Citizen Bank-Cut Ties with ICE Prisons \nFeel to free to print these signs! \nPS. When parking\, let’s spread out in the lots behind Citizen’s Bank.
URL:https://crinj.org/event/citizens-vs-citizens-bank-stop-funding-ice-detention-centers-6/
LOCATION:2030 NJ-70\, 2030 NJ-70\, Cherry Hill\, NJ\, 08002\, United States
CATEGORIES:Advocacy Event
END:VEVENT
BEGIN:VEVENT
DTSTART;TZID=America/New_York:20260425T110000
DTEND;TZID=America/New_York:20260425T123000
DTSTAMP:20260425T113325
CREATED:20260419T154630Z
LAST-MODIFIED:20260419T154630Z
UID:2354-1777114800-1777120200@crinj.org
SUMMARY:Communities Not Cages National Day of Action at Citizens Bank: Stop Funding ICE Detention Centers!
DESCRIPTION:Citizens Bank is a major lender to Geo Group and Core Civic\, both of whom run private prisons and detention facilities like Delany Hall in Newark\, Elizabeth Detention in Elizabeth\, NJ\, and Moshannon in Pennsylvania. \nAfter ICE abducts our friends and neighbors\, Delaney Hall\, Elizabeth Detention Center\, and Moshannon are where most of them are taken. There\, they are subject to abuses such as inhumane living conditions\, severe medical neglect\, abusive treatment from guards\, poor food/water quality\, and more\, all while these corporations make record profits off the suffering of human beings. \nThis must stop. \nJoin us in peacefully protesting Citizens Bank’s complicity on this National Day of Action. Bring signs specific to this action so we can spread the word: Communities Not Cages \nFor example: –De-ICE Citizens Bank –Cages aren’t Communities –Stop Financing Ice Prisons –Citizen Bank-Cut Ties with ICE Prisons \nGo to www.crinj.org for free printable signs! \nPS. When parking\, let’s spread out in the lots behind Citizens Bank.
URL:https://crinj.org/event/communities-not-cages-national-day-of-action-at-citizens-bank-stop-funding-ice-detention-centers/
LOCATION:2030 NJ-70\, 2030 NJ-70\, Cherry Hill\, NJ\, 08002\, United States
CATEGORIES:Advocacy Event
END:VEVENT
END:VCALENDAR