BEGIN:VCALENDAR
VERSION:2.0
PRODID:-//Cooper River Indivisible - ECPv6.15.20//NONSGML v1.0//EN
CALSCALE:GREGORIAN
METHOD:PUBLISH
X-ORIGINAL-URL:https://crinj.org
X-WR-CALDESC:Events for Cooper River Indivisible
REFRESH-INTERVAL;VALUE=DURATION:PT1H
X-Robots-Tag:noindex
X-PUBLISHED-TTL:PT1H
BEGIN:VTIMEZONE
TZID:America/New_York
BEGIN:DAYLIGHT
TZOFFSETFROM:-0500
TZOFFSETTO:-0400
TZNAME:EDT
DTSTART:20250309T070000
END:DAYLIGHT
BEGIN:STANDARD
TZOFFSETFROM:-0400
TZOFFSETTO:-0500
TZNAME:EST
DTSTART:20251102T060000
END:STANDARD
BEGIN:DAYLIGHT
TZOFFSETFROM:-0500
TZOFFSETTO:-0400
TZNAME:EDT
DTSTART:20260308T070000
END:DAYLIGHT
BEGIN:STANDARD
TZOFFSETFROM:-0400
TZOFFSETTO:-0500
TZNAME:EST
DTSTART:20261101T060000
END:STANDARD
BEGIN:DAYLIGHT
TZOFFSETFROM:-0500
TZOFFSETTO:-0400
TZNAME:EDT
DTSTART:20270314T070000
END:DAYLIGHT
BEGIN:STANDARD
TZOFFSETFROM:-0400
TZOFFSETTO:-0500
TZNAME:EST
DTSTART:20271107T060000
END:STANDARD
END:VTIMEZONE
BEGIN:VEVENT
DTSTART;TZID=America/New_York:20260217T190000
DTEND;TZID=America/New_York:20260217T203000
DTSTAMP:20260425T172102
CREATED:20260210T184536Z
LAST-MODIFIED:20260210T184536Z
UID:1846-1771354800-1771360200@crinj.org
SUMMARY:Justice Choir
DESCRIPTION:Join the new South Jersey Justice Choir\, hosted by Cooper River Indivisible\, in community\, love\, resistance\, and song. Learn music for upcoming activism. \nPreregistration is required on this Mobilize link to attend this rehearsal. \nYou will receive an email reminder closer to the date and a form seeking a bit more information. \nPlease check this Mobilize a couple of days before our first rehearsal in the event of a location change. \nAll are welcome. Everyone can sing! Hope to see you there!
URL:https://crinj.org/event/justice-choir/
LOCATION:Collingswood Community Center\, 30 Collings Ave\, Collingswood\, NJ\, 08108\, United States
CATEGORIES:Other
END:VEVENT
END:VCALENDAR