BEGIN:VCALENDAR
VERSION:2.0
PRODID:-//Cooper River Indivisible - ECPv6.15.20//NONSGML v1.0//EN
CALSCALE:GREGORIAN
METHOD:PUBLISH
X-ORIGINAL-URL:https://crinj.org
X-WR-CALDESC:Events for Cooper River Indivisible
REFRESH-INTERVAL;VALUE=DURATION:PT1H
X-Robots-Tag:noindex
X-PUBLISHED-TTL:PT1H
BEGIN:VTIMEZONE
TZID:America/New_York
BEGIN:DAYLIGHT
TZOFFSETFROM:-0500
TZOFFSETTO:-0400
TZNAME:EDT
DTSTART:20250309T070000
END:DAYLIGHT
BEGIN:STANDARD
TZOFFSETFROM:-0400
TZOFFSETTO:-0500
TZNAME:EST
DTSTART:20251102T060000
END:STANDARD
BEGIN:DAYLIGHT
TZOFFSETFROM:-0500
TZOFFSETTO:-0400
TZNAME:EDT
DTSTART:20260308T070000
END:DAYLIGHT
BEGIN:STANDARD
TZOFFSETFROM:-0400
TZOFFSETTO:-0500
TZNAME:EST
DTSTART:20261101T060000
END:STANDARD
BEGIN:DAYLIGHT
TZOFFSETFROM:-0500
TZOFFSETTO:-0400
TZNAME:EDT
DTSTART:20270314T070000
END:DAYLIGHT
BEGIN:STANDARD
TZOFFSETFROM:-0400
TZOFFSETTO:-0500
TZNAME:EST
DTSTART:20271107T060000
END:STANDARD
END:VTIMEZONE
BEGIN:VEVENT
DTSTART;TZID=America/New_York:20260214T093000
DTEND;TZID=America/New_York:20260214T233000
DTSTAMP:20260425T152542
CREATED:20260210T184302Z
LAST-MODIFIED:20260210T184302Z
UID:1844-1771061400-1771111800@crinj.org
SUMMARY:Sandwich-Making Party!
DESCRIPTION:Join us for a sandwich-making party to help support those in need in our communities! If you attend\, please bring a loaf or two of bread\, as well as a pound of lunchmeat and a pound of cheese. All sandwiches will be delivered to the Cathedral Kitchen in Camden.
URL:https://crinj.org/event/sandwich-making-party/
LOCATION:NJ
CATEGORIES:Solidarity Event
END:VEVENT
END:VCALENDAR