BEGIN:VCALENDAR
VERSION:2.0
PRODID:-//Cooper River Indivisible - ECPv6.15.20//NONSGML v1.0//EN
CALSCALE:GREGORIAN
METHOD:PUBLISH
X-WR-CALNAME:Cooper River Indivisible
X-ORIGINAL-URL:https://crinj.org
X-WR-CALDESC:Events for Cooper River Indivisible
REFRESH-INTERVAL;VALUE=DURATION:PT1H
X-Robots-Tag:noindex
X-PUBLISHED-TTL:PT1H
BEGIN:VTIMEZONE
TZID:America/New_York
BEGIN:DAYLIGHT
TZOFFSETFROM:-0500
TZOFFSETTO:-0400
TZNAME:EDT
DTSTART:20250309T070000
END:DAYLIGHT
BEGIN:STANDARD
TZOFFSETFROM:-0400
TZOFFSETTO:-0500
TZNAME:EST
DTSTART:20251102T060000
END:STANDARD
BEGIN:DAYLIGHT
TZOFFSETFROM:-0500
TZOFFSETTO:-0400
TZNAME:EDT
DTSTART:20260308T070000
END:DAYLIGHT
BEGIN:STANDARD
TZOFFSETFROM:-0400
TZOFFSETTO:-0500
TZNAME:EST
DTSTART:20261101T060000
END:STANDARD
BEGIN:DAYLIGHT
TZOFFSETFROM:-0500
TZOFFSETTO:-0400
TZNAME:EDT
DTSTART:20270314T070000
END:DAYLIGHT
BEGIN:STANDARD
TZOFFSETFROM:-0400
TZOFFSETTO:-0500
TZNAME:EST
DTSTART:20271107T060000
END:STANDARD
END:VTIMEZONE
BEGIN:VEVENT
DTSTART;TZID=America/New_York:20260303T150000
DTEND;TZID=America/New_York:20260303T180000
DTSTAMP:20260425T141219
CREATED:20260210T184126Z
LAST-MODIFIED:20260210T184126Z
UID:1842-1772550000-1772560800@crinj.org
SUMMARY:Stitches for Solidarity
DESCRIPTION:Our next Stitches for Solidarity gathering to use our needles\, to support those in our communities who are in need. All levels of expertise in sewing\, quilting\, knitting\, crocheting\, and friendship-bracelet-making are welcome! Come join us for an afternoon with like-minded individuals who use their creativity and compassion to offer comfort to vulnerable people in our communities.
URL:https://crinj.org/event/stitches-for-solidarity-2/
LOCATION:Voorhees Branch of the Camden County Library\, 203 Laurel Road\, Voorhees\, NJ\, 08043\, United States
CATEGORIES:Solidarity Event
END:VEVENT
BEGIN:VEVENT
DTSTART;TZID=America/New_York:20260317T080000
DTEND;TZID=America/New_York:20260317T170000
DTSTAMP:20260425T141219
CREATED:20260318T002614Z
LAST-MODIFIED:20260318T002614Z
UID:2167-1773734400-1773766800@crinj.org
SUMMARY:Stitches for Solidarity
DESCRIPTION:Come join the members of Stitches for Solidarity at their next session– all skill levels are welcome! We will be sewing/quilting\, making Embracelets\, and knitting/crocheting blankets\, hats\, scarves\, and probably a red resistance hat or two! All items we create are either donated to organizations that support immigrant families\, or used to raise monetary donations that support the efforts of CRI’s Mutual Aid team. Come enjoy a very productive afternoon amongst a community of like-minded crafters\, and possibly learn a new skill! \nThis event’s address is private.\nSign up for more details. \n 
URL:https://crinj.org/event/stitches-for-solidarity-3/
LOCATION:NJ
CATEGORIES:Solidarity Event
END:VEVENT
END:VCALENDAR