BEGIN:VCALENDAR
VERSION:2.0
PRODID:-//Cooper River Indivisible - ECPv6.15.20//NONSGML v1.0//EN
CALSCALE:GREGORIAN
METHOD:PUBLISH
X-WR-CALNAME:Cooper River Indivisible
X-ORIGINAL-URL:https://crinj.org
X-WR-CALDESC:Events for Cooper River Indivisible
REFRESH-INTERVAL;VALUE=DURATION:PT1H
X-Robots-Tag:noindex
X-PUBLISHED-TTL:PT1H
BEGIN:VTIMEZONE
TZID:America/New_York
BEGIN:DAYLIGHT
TZOFFSETFROM:-0500
TZOFFSETTO:-0400
TZNAME:EDT
DTSTART:20250309T070000
END:DAYLIGHT
BEGIN:STANDARD
TZOFFSETFROM:-0400
TZOFFSETTO:-0500
TZNAME:EST
DTSTART:20251102T060000
END:STANDARD
BEGIN:DAYLIGHT
TZOFFSETFROM:-0500
TZOFFSETTO:-0400
TZNAME:EDT
DTSTART:20260308T070000
END:DAYLIGHT
BEGIN:STANDARD
TZOFFSETFROM:-0400
TZOFFSETTO:-0500
TZNAME:EST
DTSTART:20261101T060000
END:STANDARD
BEGIN:DAYLIGHT
TZOFFSETFROM:-0500
TZOFFSETTO:-0400
TZNAME:EDT
DTSTART:20270314T070000
END:DAYLIGHT
BEGIN:STANDARD
TZOFFSETFROM:-0400
TZOFFSETTO:-0500
TZNAME:EST
DTSTART:20271107T060000
END:STANDARD
END:VTIMEZONE
BEGIN:VEVENT
DTSTART;TZID=America/New_York:20260501T143000
DTEND;TZID=America/New_York:20260501T170000
DTSTAMP:20260425T113028
CREATED:20260419T155906Z
LAST-MODIFIED:20260419T155906Z
UID:2359-1777645800-1777654800@crinj.org
SUMMARY:May Day 2026 Camden to Philly Solidarity March
DESCRIPTION:South Jersey’s unions are stepping up and mobilizing for democracy\, freedom\, and the future we all deserve this May Day. \nJoin CRI and other sister organizations across the region to come together to support and strengthen this effort through solidarity and shared purpose. \nPlans are still coming together\, so keep an eye on your email for updates as we get closer to May 1. More details are on the way!
URL:https://crinj.org/event/may-day-2026-camden-to-philly-solidarity-march/
LOCATION:468 Pearl Street\, 468 Pearl Street\, Camden\, NJ\, 08102\, United States
CATEGORIES:Solidarity Event
END:VEVENT
END:VCALENDAR