BEGIN:VCALENDAR
VERSION:2.0
PRODID:-//Cooper River Indivisible - ECPv6.15.20//NONSGML v1.0//EN
CALSCALE:GREGORIAN
METHOD:PUBLISH
X-ORIGINAL-URL:https://crinj.org
X-WR-CALDESC:Events for Cooper River Indivisible
REFRESH-INTERVAL;VALUE=DURATION:PT1H
X-Robots-Tag:noindex
X-PUBLISHED-TTL:PT1H
BEGIN:VTIMEZONE
TZID:America/New_York
BEGIN:DAYLIGHT
TZOFFSETFROM:-0500
TZOFFSETTO:-0400
TZNAME:EDT
DTSTART:20240310T070000
END:DAYLIGHT
BEGIN:STANDARD
TZOFFSETFROM:-0400
TZOFFSETTO:-0500
TZNAME:EST
DTSTART:20241103T060000
END:STANDARD
BEGIN:DAYLIGHT
TZOFFSETFROM:-0500
TZOFFSETTO:-0400
TZNAME:EDT
DTSTART:20250309T070000
END:DAYLIGHT
BEGIN:STANDARD
TZOFFSETFROM:-0400
TZOFFSETTO:-0500
TZNAME:EST
DTSTART:20251102T060000
END:STANDARD
BEGIN:DAYLIGHT
TZOFFSETFROM:-0500
TZOFFSETTO:-0400
TZNAME:EDT
DTSTART:20260308T070000
END:DAYLIGHT
BEGIN:STANDARD
TZOFFSETFROM:-0400
TZOFFSETTO:-0500
TZNAME:EST
DTSTART:20261101T060000
END:STANDARD
END:VTIMEZONE
BEGIN:VEVENT
DTSTART;TZID=America/New_York:20251206T130000
DTEND;TZID=America/New_York:20251206T150000
DTSTAMP:20260425T112638
CREATED:20251202T180902Z
LAST-MODIFIED:20251202T180902Z
UID:1288-1765026000-1765033200@crinj.org
SUMMARY:PineHilladelphia Fight for our Rights Saturdays
DESCRIPTION:PineHilladelphia will be setting up every Saturday\, weather permitting\, in the same location across from Trump’s golf course. Visibility is vital right now! We cannot allow this regime to get to the point of forcing us underground. Any Saturday you’re free\, come on out and be seen! Give other’s the courage to stand up and fight!
URL:https://crinj.org/event/pinehilladelphia-fight-for-our-rights-saturdays-9/
LOCATION:PineHilladelphia\, 500 W. Branch Ave\, Pine Hill\, NJ\, 08021\, United States
CATEGORIES:Protest,Visibility Event
END:VEVENT
BEGIN:VEVENT
DTSTART;TZID=America/New_York:20251213T120000
DTEND;TZID=America/New_York:20251213T150000
DTSTAMP:20260425T112638
CREATED:20251104T111627Z
LAST-MODIFIED:20251202T180956Z
UID:1042-1765627200-1765638000@crinj.org
SUMMARY:PineHilladelphia Fight for our Rights Saturdays
DESCRIPTION:PineHilladelphia will be setting up every Saturday\, weather permitting\, in the same location across from Trump’s golf course. Visibility is vital right now! We cannot allow this regime to get to the point of forcing us underground. Any Saturday you’re free\, come on out and be seen! Give other’s the courage to stand up and fight!
URL:https://crinj.org/event/pinehilladelphia-fight-for-our-rights-saturdays-8/
LOCATION:PineHilladelphia\, 500 W. Branch Ave\, Pine Hill\, NJ\, 08021\, United States
CATEGORIES:Protest,Visibility Event
END:VEVENT
BEGIN:VEVENT
DTSTART;TZID=America/New_York:20251220T130000
DTEND;TZID=America/New_York:20251220T150000
DTSTAMP:20260425T112638
CREATED:20251202T181048Z
LAST-MODIFIED:20251202T181048Z
UID:1290-1766235600-1766242800@crinj.org
SUMMARY:PineHilladelphia Fight for our Rights Saturdays
DESCRIPTION:PineHilladelphia will be setting up every Saturday\, weather permitting\, in the same location across from Trump’s golf course. Visibility is vital right now! We cannot allow this regime to get to the point of forcing us underground. Any Saturday you’re free\, come on out and be seen! Give other’s the courage to stand up and fight!
URL:https://crinj.org/event/pinehilladelphia-fight-for-our-rights-saturdays-10/
LOCATION:PineHilladelphia\, 500 W. Branch Ave\, Pine Hill\, NJ\, 08021\, United States
CATEGORIES:Protest,Visibility Event
END:VEVENT
BEGIN:VEVENT
DTSTART;TZID=America/New_York:20251227T130000
DTEND;TZID=America/New_York:20251227T150000
DTSTAMP:20260425T112638
CREATED:20251202T181106Z
LAST-MODIFIED:20251202T181106Z
UID:1292-1766840400-1766847600@crinj.org
SUMMARY:PineHilladelphia Fight for our Rights Saturdays
DESCRIPTION:PineHilladelphia will be setting up every Saturday\, weather permitting\, in the same location across from Trump’s golf course. Visibility is vital right now! We cannot allow this regime to get to the point of forcing us underground. Any Saturday you’re free\, come on out and be seen! Give other’s the courage to stand up and fight!
URL:https://crinj.org/event/pinehilladelphia-fight-for-our-rights-saturdays-11/
LOCATION:PineHilladelphia\, 500 W. Branch Ave\, Pine Hill\, NJ\, 08021\, United States
CATEGORIES:Protest,Visibility Event
END:VEVENT
BEGIN:VEVENT
DTSTART;TZID=America/New_York:20251228T100000
DTEND;TZID=America/New_York:20251228T120000
DTSTAMP:20260425T112638
CREATED:20251222T204717Z
LAST-MODIFIED:20251222T204717Z
UID:1401-1766916000-1766923200@crinj.org
SUMMARY:Solidarity Sunday - Support Immigrants and Protest ICE
DESCRIPTION:It’s time to hit the streets again! CRI is joining forces with Mi Casa Woodbury to say ICE IS NOT WELCOME IN NEW JERSEY! With abductions ramping up throughout the state\, and recent ones in Camden\, Lindenwold\, Woodbury\, Edgewater Park\, Bellmawr\, etc\, etc\, we need to send a clear message to our valued and vulnerable immigrant communities that we will fight for them. At the same time\, we need to tell ICE and their fascist enablers that EVERY US RESIDENT HAS A FUNDAMENTAL RIGHT OF DUE PROCESS. \nThis event is a peaceful\, public protest\, and information will be available about immigrant rights\, rights of people documenting ICE activity\, and ways to get involved. \nThis event is also part of a weekly campaign by Mi Casa Woodbury to show support for immigrants and bring more awareness of illegal ICE abductions.
URL:https://crinj.org/event/solidarity-sunday-support-immigrants-and-protest-ice/
LOCATION:Downtown Woodbury\, Delaware Street and North Broad Street\, Woodbury\, NJ\, 08096\, United States
CATEGORIES:Visibility Event
END:VEVENT
END:VCALENDAR