BEGIN:VCALENDAR
VERSION:2.0
PRODID:-//Cooper River Indivisible - ECPv6.15.20//NONSGML v1.0//EN
CALSCALE:GREGORIAN
METHOD:PUBLISH
X-WR-CALNAME:Cooper River Indivisible
X-ORIGINAL-URL:https://crinj.org
X-WR-CALDESC:Events for Cooper River Indivisible
REFRESH-INTERVAL;VALUE=DURATION:PT1H
X-Robots-Tag:noindex
X-PUBLISHED-TTL:PT1H
BEGIN:VTIMEZONE
TZID:America/New_York
BEGIN:DAYLIGHT
TZOFFSETFROM:-0500
TZOFFSETTO:-0400
TZNAME:EDT
DTSTART:20250309T070000
END:DAYLIGHT
BEGIN:STANDARD
TZOFFSETFROM:-0400
TZOFFSETTO:-0500
TZNAME:EST
DTSTART:20251102T060000
END:STANDARD
BEGIN:DAYLIGHT
TZOFFSETFROM:-0500
TZOFFSETTO:-0400
TZNAME:EDT
DTSTART:20260308T070000
END:DAYLIGHT
BEGIN:STANDARD
TZOFFSETFROM:-0400
TZOFFSETTO:-0500
TZNAME:EST
DTSTART:20261101T060000
END:STANDARD
BEGIN:DAYLIGHT
TZOFFSETFROM:-0500
TZOFFSETTO:-0400
TZNAME:EDT
DTSTART:20270314T070000
END:DAYLIGHT
BEGIN:STANDARD
TZOFFSETFROM:-0400
TZOFFSETTO:-0500
TZNAME:EST
DTSTART:20271107T060000
END:STANDARD
END:VTIMEZONE
BEGIN:VEVENT
DTSTART;TZID=America/New_York:20260404T130000
DTEND;TZID=America/New_York:20260404T150000
DTSTAMP:20260425T094814
CREATED:20260330T225939Z
LAST-MODIFIED:20260330T225939Z
UID:2272-1775307600-1775314800@crinj.org
SUMMARY:PineHilladelphia: Evict the Dic(tator)
DESCRIPTION:Help get Trump out of Pine Hill! We are coming together as a community to tell Pine Hill leadership that it is time to revoke Trump’s lease on Trump Philadelphia Golf Course\, and to tell this authoritarian regime that they can’t push Pine Hill or Philadelphia around. Taking Trump’s name off this golf course is just one way we can send this message straight to the White House. \nPineHilladelphia will be setting up every Saturday for a peaceful protest\, weather permitting\, to be visible\, to show this regime they cannot force us underground\, and to give others the courage to stand up and fight!
URL:https://crinj.org/event/pinehilladelphia-evict-the-dictator-4/
LOCATION:PineHilladelphia\, 500 W. Branch Ave\, Pine Hill\, NJ\, 08021\, United States
CATEGORIES:Protest,Visibility Event
END:VEVENT
BEGIN:VEVENT
DTSTART;TZID=America/New_York:20260411T130000
DTEND;TZID=America/New_York:20260411T150000
DTSTAMP:20260425T094814
CREATED:20260330T225957Z
LAST-MODIFIED:20260330T225957Z
UID:2274-1775912400-1775919600@crinj.org
SUMMARY:PineHilladelphia: Evict the Dic(tator)
DESCRIPTION:Help get Trump out of Pine Hill! We are coming together as a community to tell Pine Hill leadership that it is time to revoke Trump’s lease on Trump Philadelphia Golf Course\, and to tell this authoritarian regime that they can’t push Pine Hill or Philadelphia around. Taking Trump’s name off this golf course is just one way we can send this message straight to the White House. \nPineHilladelphia will be setting up every Saturday for a peaceful protest\, weather permitting\, to be visible\, to show this regime they cannot force us underground\, and to give others the courage to stand up and fight!
URL:https://crinj.org/event/pinehilladelphia-evict-the-dictator-5/
LOCATION:PineHilladelphia\, 500 W. Branch Ave\, Pine Hill\, NJ\, 08021\, United States
CATEGORIES:Protest,Visibility Event
END:VEVENT
BEGIN:VEVENT
DTSTART;TZID=America/New_York:20260418T130000
DTEND;TZID=America/New_York:20260418T150000
DTSTAMP:20260425T094814
CREATED:20260330T230017Z
LAST-MODIFIED:20260330T230017Z
UID:2276-1776517200-1776524400@crinj.org
SUMMARY:PineHilladelphia: Evict the Dic(tator)
DESCRIPTION:Help get Trump out of Pine Hill! We are coming together as a community to tell Pine Hill leadership that it is time to revoke Trump’s lease on Trump Philadelphia Golf Course\, and to tell this authoritarian regime that they can’t push Pine Hill or Philadelphia around. Taking Trump’s name off this golf course is just one way we can send this message straight to the White House. \nPineHilladelphia will be setting up every Saturday for a peaceful protest\, weather permitting\, to be visible\, to show this regime they cannot force us underground\, and to give others the courage to stand up and fight!
URL:https://crinj.org/event/pinehilladelphia-evict-the-dictator-6/
LOCATION:PineHilladelphia\, 500 W. Branch Ave\, Pine Hill\, NJ\, 08021\, United States
CATEGORIES:Protest,Visibility Event
END:VEVENT
BEGIN:VEVENT
DTSTART;TZID=America/New_York:20260425T130000
DTEND;TZID=America/New_York:20260425T150000
DTSTAMP:20260425T094814
CREATED:20260330T230036Z
LAST-MODIFIED:20260330T230036Z
UID:2278-1777122000-1777129200@crinj.org
SUMMARY:PineHilladelphia: Evict the Dic(tator)
DESCRIPTION:Help get Trump out of Pine Hill! We are coming together as a community to tell Pine Hill leadership that it is time to revoke Trump’s lease on Trump Philadelphia Golf Course\, and to tell this authoritarian regime that they can’t push Pine Hill or Philadelphia around. Taking Trump’s name off this golf course is just one way we can send this message straight to the White House. \nPineHilladelphia will be setting up every Saturday for a peaceful protest\, weather permitting\, to be visible\, to show this regime they cannot force us underground\, and to give others the courage to stand up and fight!
URL:https://crinj.org/event/pinehilladelphia-evict-the-dictator-7/
LOCATION:PineHilladelphia\, 500 W. Branch Ave\, Pine Hill\, NJ\, 08021\, United States
CATEGORIES:Protest,Visibility Event
END:VEVENT
END:VCALENDAR