BEGIN:VCALENDAR
VERSION:2.0
PRODID:-//Cooper River Indivisible - ECPv6.15.20//NONSGML v1.0//EN
CALSCALE:GREGORIAN
METHOD:PUBLISH
X-ORIGINAL-URL:https://crinj.org
X-WR-CALDESC:Events for Cooper River Indivisible
REFRESH-INTERVAL;VALUE=DURATION:PT1H
X-Robots-Tag:noindex
X-PUBLISHED-TTL:PT1H
BEGIN:VTIMEZONE
TZID:America/New_York
BEGIN:DAYLIGHT
TZOFFSETFROM:-0500
TZOFFSETTO:-0400
TZNAME:EDT
DTSTART:20240310T070000
END:DAYLIGHT
BEGIN:STANDARD
TZOFFSETFROM:-0400
TZOFFSETTO:-0500
TZNAME:EST
DTSTART:20241103T060000
END:STANDARD
BEGIN:DAYLIGHT
TZOFFSETFROM:-0500
TZOFFSETTO:-0400
TZNAME:EDT
DTSTART:20250309T070000
END:DAYLIGHT
BEGIN:STANDARD
TZOFFSETFROM:-0400
TZOFFSETTO:-0500
TZNAME:EST
DTSTART:20251102T060000
END:STANDARD
BEGIN:DAYLIGHT
TZOFFSETFROM:-0500
TZOFFSETTO:-0400
TZNAME:EDT
DTSTART:20260308T070000
END:DAYLIGHT
BEGIN:STANDARD
TZOFFSETFROM:-0400
TZOFFSETTO:-0500
TZNAME:EST
DTSTART:20261101T060000
END:STANDARD
BEGIN:DAYLIGHT
TZOFFSETFROM:-0500
TZOFFSETTO:-0400
TZNAME:EDT
DTSTART:20270314T070000
END:DAYLIGHT
BEGIN:STANDARD
TZOFFSETFROM:-0400
TZOFFSETTO:-0500
TZNAME:EST
DTSTART:20271107T060000
END:STANDARD
END:VTIMEZONE
BEGIN:VEVENT
DTSTART;TZID=America/New_York:20260201T100000
DTEND;TZID=America/New_York:20260201T120000
DTSTAMP:20260425T100651
CREATED:20251230T173550Z
LAST-MODIFIED:20251230T173550Z
UID:1479-1769940000-1769947200@crinj.org
SUMMARY:Solidarity Sunday - Support Immigrants and Protest ICE
DESCRIPTION:It’s time to hit the streets again! CRI is joining forces with Mi Casa Woodbury to say ICE IS NOT WELCOME IN NEW JERSEY! With abductions ramping up throughout the state\, and recent ones in Camden\, Lindenwold\, Woodbury\, Edgewater Park\, Bellmawr\, etc\, etc\, we need to send a clear message to our valued and vulnerable immigrant communities that we will fight for them. At the same time\, we need to tell ICE and their fascist enablers that EVERY US RESIDENT HAS A FUNDAMENTAL RIGHT OF DUE PROCESS. \nThis event is a peaceful\, public protest\, and information will be available about immigrant rights\, rights of people documenting ICE activity\, and ways to get involved. \nThis event is also part of a weekly campaign by Mi Casa Woodbury to show support for immigrants and bring more awareness of illegal ICE abductions.
URL:https://crinj.org/event/solidarity-sunday-support-immigrants-and-protest-ice-6/
LOCATION:Woodbury Mi Casa Esquina\, Delaware Street and North Broad Street\, Woodbury\, NJ\, 08096\, United States
CATEGORIES:Visibility Event
END:VEVENT
BEGIN:VEVENT
DTSTART;TZID=America/New_York:20260131T130000
DTEND;TZID=America/New_York:20260131T150000
DTSTAMP:20260425T100651
CREATED:20260122T180308Z
LAST-MODIFIED:20260126T001629Z
UID:1694-1769864400-1769871600@crinj.org
SUMMARY:PineHilladelphia Fight for our Rights Saturdays
DESCRIPTION:PineHilladelphia will be setting up every Saturday\, weather permitting\, in the same location across from Trump’s golf course. Visibility is vital right now! We cannot allow this regime to get to the point of forcing us underground. Any Saturday you’re free\, come on out and be seen! Give other’s the courage to stand up and fight! \nJoy is rebellion. Feel free to wear a costume\, revolutionary cosplay\, or anything mocking the regime. Our goal is unity through individuality. We will not be cookie cutter lockstep jackboots. We will be weird and wonderful and a safe space to dance in the face of destruction. Whether you have been anti-Trump since day one or just decided he doesn’t deserve your support anymore\, all are welcome. Parking is on Davis Ave\, right next to our public plot of land.
URL:https://crinj.org/event/pinehilladelphia-fight-for-our-rights-saturdays-16/
LOCATION:PineHilladelphia\, 500 W. Branch Ave\, Pine Hill\, NJ\, 08021\, United States
CATEGORIES:Protest,Visibility Event
END:VEVENT
BEGIN:VEVENT
DTSTART;TZID=America/New_York:20260125T100000
DTEND;TZID=America/New_York:20260125T120000
DTSTAMP:20260425T100651
CREATED:20251230T173531Z
LAST-MODIFIED:20251230T173531Z
UID:1477-1769335200-1769342400@crinj.org
SUMMARY:Solidarity Sunday - Support Immigrants and Protest ICE
DESCRIPTION:It’s time to hit the streets again! CRI is joining forces with Mi Casa Woodbury to say ICE IS NOT WELCOME IN NEW JERSEY! With abductions ramping up throughout the state\, and recent ones in Camden\, Lindenwold\, Woodbury\, Edgewater Park\, Bellmawr\, etc\, etc\, we need to send a clear message to our valued and vulnerable immigrant communities that we will fight for them. At the same time\, we need to tell ICE and their fascist enablers that EVERY US RESIDENT HAS A FUNDAMENTAL RIGHT OF DUE PROCESS. \nThis event is a peaceful\, public protest\, and information will be available about immigrant rights\, rights of people documenting ICE activity\, and ways to get involved. \nThis event is also part of a weekly campaign by Mi Casa Woodbury to show support for immigrants and bring more awareness of illegal ICE abductions.
URL:https://crinj.org/event/solidarity-sunday-support-immigrants-and-protest-ice-5/
LOCATION:Woodbury Mi Casa Esquina\, Delaware Street and North Broad Street\, Woodbury\, NJ\, 08096\, United States
CATEGORIES:Visibility Event
END:VEVENT
BEGIN:VEVENT
DTSTART;TZID=America/New_York:20260124T130000
DTEND;TZID=America/New_York:20260124T150000
DTSTAMP:20260425T100651
CREATED:20260122T180214Z
LAST-MODIFIED:20260122T180221Z
UID:1692-1769259600-1769266800@crinj.org
SUMMARY:PineHilladelphia Fight for our Rights Saturdays
DESCRIPTION:PineHilladelphia will be setting up every Saturday\, weather permitting\, in the same location across from Trump’s golf course. Visibility is vital right now! We cannot allow this regime to get to the point of forcing us underground. Any Saturday you’re free\, come on out and be seen! Give other’s the courage to stand up and fight! \nJoy is rebellion. Feel free to wear a costume\, revolutionary cosplay\, or anything mocking the regime. Our goal is unity through individuality. We will not be cookie cutter lockstep jackboots. We will be weird and wonderful and a safe space to dance in the face of destruction. Whether you have been anti-Trump since day one or just decided he doesn’t deserve your support anymore\, all are welcome. Parking is on Davis Ave\, right next to our public plot of land.
URL:https://crinj.org/event/pinehilladelphia-fight-for-our-rights-saturdays-15/
LOCATION:PineHilladelphia\, 500 W. Branch Ave\, Pine Hill\, NJ\, 08021\, United States
CATEGORIES:Protest,Visibility Event
END:VEVENT
BEGIN:VEVENT
DTSTART;TZID=America/New_York:20260120T120000
DTEND;TZID=America/New_York:20260120T140000
DTSTAMP:20260425T100651
CREATED:20260112T192601Z
LAST-MODIFIED:20260112T192601Z
UID:1610-1768910400-1768917600@crinj.org
SUMMARY:Free America Walk Out Cherry Hill NJ
DESCRIPTION:As Americans\, it is our duty to ourselves and our country to push against tyranny. We honor our history by organizing for a Free America. An America free of fascism\, of government overreach and corruption\, of unlawful arrests\, of public executions\, of pointless wars\, of the protection of sex traffickers\, and of a dictator. \nAs part of the national call for a “walk out” event on Tuesday January 20th\, we will gather on the sidewalk outside the Whole Foods in Cherry Hill from noon to 2:00pm. We will start at the corner and spread out as needed. Please bring a sign\, a costume\, a prop\, or anything else you might have in mind to tell our fellow Americans that we demand a Free America. \nSome things to keep in mind: – This is a peaceful demonstration. We do not allow signs that encourage\, glorify\, or incite violence. – In order to ensure the safety of everyone present\, we ask that nobody cross or step into the street or shoulder during this demonstration\, and cross roads only at crosswalks (the Cherry Hill police have issues citations for this at past protests). Please also take care not to obstruct any local businesses. – While there will be many people honking their horns in support\, there will be unhappy campers\, hecklers\, and possibly even people looking to intimidate. Do not engage with them or their hostility. *Remember: the goal of a visibility event is to be seen and to have impact on people. Consider any heckling to be a positive result of the action\, and follow through with the most effective response – smile and wave. – There will be safety coordinators wearing reflective vests. Please cooperate with them\, as they are volunteers working to ensure the safety of everyone present.
URL:https://crinj.org/event/free-america-walk-out-cherry-hill-nj/
LOCATION:Ellisburg Shopping Center\, New Jersey 70 and Kings Highway North\, Cherry Hill\, NJ\, 08034\, United States
CATEGORIES:Visibility Event
END:VEVENT
BEGIN:VEVENT
DTSTART;TZID=America/New_York:20260118T100000
DTEND;TZID=America/New_York:20260118T120000
DTSTAMP:20260425T100651
CREATED:20251230T173517Z
LAST-MODIFIED:20251230T173517Z
UID:1475-1768730400-1768737600@crinj.org
SUMMARY:Solidarity Sunday - Support Immigrants and Protest ICE
DESCRIPTION:It’s time to hit the streets again! CRI is joining forces with Mi Casa Woodbury to say ICE IS NOT WELCOME IN NEW JERSEY! With abductions ramping up throughout the state\, and recent ones in Camden\, Lindenwold\, Woodbury\, Edgewater Park\, Bellmawr\, etc\, etc\, we need to send a clear message to our valued and vulnerable immigrant communities that we will fight for them. At the same time\, we need to tell ICE and their fascist enablers that EVERY US RESIDENT HAS A FUNDAMENTAL RIGHT OF DUE PROCESS. \nThis event is a peaceful\, public protest\, and information will be available about immigrant rights\, rights of people documenting ICE activity\, and ways to get involved. \nThis event is also part of a weekly campaign by Mi Casa Woodbury to show support for immigrants and bring more awareness of illegal ICE abductions.
URL:https://crinj.org/event/solidarity-sunday-support-immigrants-and-protest-ice-4/
LOCATION:Woodbury Mi Casa Esquina\, Delaware Street and North Broad Street\, Woodbury\, NJ\, 08096\, United States
CATEGORIES:Visibility Event
END:VEVENT
BEGIN:VEVENT
DTSTART;TZID=America/New_York:20260117T130000
DTEND;TZID=America/New_York:20260117T150000
DTSTAMP:20260425T100651
CREATED:20251230T171415Z
LAST-MODIFIED:20251230T171415Z
UID:1457-1768654800-1768662000@crinj.org
SUMMARY:PineHilladelphia Fight for our Rights Saturdays
DESCRIPTION:PineHilladelphia will be setting up every Saturday\, weather permitting\, in the same location across from Trump’s golf course. Visibility is vital right now! We cannot allow this regime to get to the point of forcing us underground. Any Saturday you’re free\, come on out and be seen! Give other’s the courage to stand up and fight!
URL:https://crinj.org/event/pinehilladelphia-fight-for-our-rights-saturdays-14/
LOCATION:PineHilladelphia\, 500 W. Branch Ave\, Pine Hill\, NJ\, 08021\, United States
CATEGORIES:Protest,Visibility Event
END:VEVENT
BEGIN:VEVENT
DTSTART;TZID=America/New_York:20260111T100000
DTEND;TZID=America/New_York:20260111T120000
DTSTAMP:20260425T100651
CREATED:20251230T173459Z
LAST-MODIFIED:20251230T173459Z
UID:1473-1768125600-1768132800@crinj.org
SUMMARY:Solidarity Sunday - Support Immigrants and Protest ICE
DESCRIPTION:It’s time to hit the streets again! CRI is joining forces with Mi Casa Woodbury to say ICE IS NOT WELCOME IN NEW JERSEY! With abductions ramping up throughout the state\, and recent ones in Camden\, Lindenwold\, Woodbury\, Edgewater Park\, Bellmawr\, etc\, etc\, we need to send a clear message to our valued and vulnerable immigrant communities that we will fight for them. At the same time\, we need to tell ICE and their fascist enablers that EVERY US RESIDENT HAS A FUNDAMENTAL RIGHT OF DUE PROCESS. \nThis event is a peaceful\, public protest\, and information will be available about immigrant rights\, rights of people documenting ICE activity\, and ways to get involved. \nThis event is also part of a weekly campaign by Mi Casa Woodbury to show support for immigrants and bring more awareness of illegal ICE abductions.
URL:https://crinj.org/event/solidarity-sunday-support-immigrants-and-protest-ice-3/
LOCATION:Woodbury Mi Casa Esquina\, Delaware Street and North Broad Street\, Woodbury\, NJ\, 08096\, United States
CATEGORIES:Visibility Event
END:VEVENT
BEGIN:VEVENT
DTSTART;TZID=America/New_York:20260110T130000
DTEND;TZID=America/New_York:20260110T150000
DTSTAMP:20260425T100651
CREATED:20251230T171400Z
LAST-MODIFIED:20251230T171400Z
UID:1455-1768050000-1768057200@crinj.org
SUMMARY:PineHilladelphia Fight for our Rights Saturdays
DESCRIPTION:PineHilladelphia will be setting up every Saturday\, weather permitting\, in the same location across from Trump’s golf course. Visibility is vital right now! We cannot allow this regime to get to the point of forcing us underground. Any Saturday you’re free\, come on out and be seen! Give other’s the courage to stand up and fight!
URL:https://crinj.org/event/pinehilladelphia-fight-for-our-rights-saturdays-13/
LOCATION:PineHilladelphia\, 500 W. Branch Ave\, Pine Hill\, NJ\, 08021\, United States
CATEGORIES:Protest,Visibility Event
END:VEVENT
BEGIN:VEVENT
DTSTART;TZID=America/New_York:20260110T080000
DTEND;TZID=America/New_York:20260110T170000
DTSTAMP:20260425T100651
CREATED:20260110T204627Z
LAST-MODIFIED:20260110T204627Z
UID:1581-1768032000-1768064400@crinj.org
SUMMARY:ICE Out for Good
DESCRIPTION:ICE Out for Good – Woodbury (Mi Casa and Cooper River Indivisible)\nWednesday\, January 7th\, an American citizen was killed by Immigration and Customs Enforcement (ICE) in Minneapolis\, Minnesota. This killing is part of a broader pattern of unchecked violence\, impunity\, and abuse carried out by federal immigration enforcement agencies against members of our communities. \nA broad coalition of groups across the country is calling for a coordinated Ice Out For Good Weekend of Action on Saturday\, January 10th and Sunday\, January 11th to demand accountability\, honor the life lost\, and make visible the human cost of ICE’s actions. \nA core principle behind all ICE Out For Good events is a commitment to nonviolent action and no civil disobedience. We expect all participants to seek to de-escalate any potential confrontation with those who disagree with our values\, and to act lawfully at these events. Weapons of any kind\, including those legally permitted\, should not be brought to events. All events should be held in public spaces or on public property. This event is a peaceful\, public protest\, and information will be available about immigrant rights\, rights of people documenting ICE activity\, and ways to get involved. \nThis event is also part of a weekly campaign by Mi Casa Woodbury to show support for immigrants and bring more awareness of illegal ICE abductions. \n 
URL:https://crinj.org/event/ice-out-for-good/
LOCATION:Woodbury Mi Casa Esquina\, Delaware Street and North Broad Street\, Woodbury\, NJ\, 08096\, United States
CATEGORIES:Visibility Event
END:VEVENT
BEGIN:VEVENT
DTSTART;TZID=America/New_York:20260104T100000
DTEND;TZID=America/New_York:20260104T120000
DTSTAMP:20260425T100651
CREATED:20251230T173441Z
LAST-MODIFIED:20251230T173441Z
UID:1470-1767520800-1767528000@crinj.org
SUMMARY:Solidarity Sunday - Support Immigrants and Protest ICE
DESCRIPTION:It’s time to hit the streets again! CRI is joining forces with Mi Casa Woodbury to say ICE IS NOT WELCOME IN NEW JERSEY! With abductions ramping up throughout the state\, and recent ones in Camden\, Lindenwold\, Woodbury\, Edgewater Park\, Bellmawr\, etc\, etc\, we need to send a clear message to our valued and vulnerable immigrant communities that we will fight for them. At the same time\, we need to tell ICE and their fascist enablers that EVERY US RESIDENT HAS A FUNDAMENTAL RIGHT OF DUE PROCESS. \nThis event is a peaceful\, public protest\, and information will be available about immigrant rights\, rights of people documenting ICE activity\, and ways to get involved. \nThis event is also part of a weekly campaign by Mi Casa Woodbury to show support for immigrants and bring more awareness of illegal ICE abductions.
URL:https://crinj.org/event/solidarity-sunday-support-immigrants-and-protest-ice-2/
LOCATION:Woodbury Mi Casa Esquina\, Delaware Street and North Broad Street\, Woodbury\, NJ\, 08096\, United States
CATEGORIES:Visibility Event
END:VEVENT
BEGIN:VEVENT
DTSTART;TZID=America/New_York:20260103T130000
DTEND;TZID=America/New_York:20260103T150000
DTSTAMP:20260425T100651
CREATED:20251230T165908Z
LAST-MODIFIED:20251230T165908Z
UID:1418-1767445200-1767452400@crinj.org
SUMMARY:PineHilladelphia Fight for our Rights Saturdays
DESCRIPTION:PineHilladelphia will be setting up every Saturday\, weather permitting\, in the same location across from Trump’s golf course. Visibility is vital right now! We cannot allow this regime to get to the point of forcing us underground. Any Saturday you’re free\, come on out and be seen! Give other’s the courage to stand up and fight!
URL:https://crinj.org/event/pinehilladelphia-fight-for-our-rights-saturdays-12/
LOCATION:PineHilladelphia\, 500 W. Branch Ave\, Pine Hill\, NJ\, 08021\, United States
CATEGORIES:Protest,Visibility Event
END:VEVENT
BEGIN:VEVENT
DTSTART;TZID=America/New_York:20251228T100000
DTEND;TZID=America/New_York:20251228T120000
DTSTAMP:20260425T100651
CREATED:20251222T204717Z
LAST-MODIFIED:20251222T204717Z
UID:1401-1766916000-1766923200@crinj.org
SUMMARY:Solidarity Sunday - Support Immigrants and Protest ICE
DESCRIPTION:It’s time to hit the streets again! CRI is joining forces with Mi Casa Woodbury to say ICE IS NOT WELCOME IN NEW JERSEY! With abductions ramping up throughout the state\, and recent ones in Camden\, Lindenwold\, Woodbury\, Edgewater Park\, Bellmawr\, etc\, etc\, we need to send a clear message to our valued and vulnerable immigrant communities that we will fight for them. At the same time\, we need to tell ICE and their fascist enablers that EVERY US RESIDENT HAS A FUNDAMENTAL RIGHT OF DUE PROCESS. \nThis event is a peaceful\, public protest\, and information will be available about immigrant rights\, rights of people documenting ICE activity\, and ways to get involved. \nThis event is also part of a weekly campaign by Mi Casa Woodbury to show support for immigrants and bring more awareness of illegal ICE abductions.
URL:https://crinj.org/event/solidarity-sunday-support-immigrants-and-protest-ice/
LOCATION:Downtown Woodbury\, Delaware Street and North Broad Street\, Woodbury\, NJ\, 08096\, United States
CATEGORIES:Visibility Event
END:VEVENT
BEGIN:VEVENT
DTSTART;TZID=America/New_York:20251227T130000
DTEND;TZID=America/New_York:20251227T150000
DTSTAMP:20260425T100651
CREATED:20251202T181106Z
LAST-MODIFIED:20251202T181106Z
UID:1292-1766840400-1766847600@crinj.org
SUMMARY:PineHilladelphia Fight for our Rights Saturdays
DESCRIPTION:PineHilladelphia will be setting up every Saturday\, weather permitting\, in the same location across from Trump’s golf course. Visibility is vital right now! We cannot allow this regime to get to the point of forcing us underground. Any Saturday you’re free\, come on out and be seen! Give other’s the courage to stand up and fight!
URL:https://crinj.org/event/pinehilladelphia-fight-for-our-rights-saturdays-11/
LOCATION:PineHilladelphia\, 500 W. Branch Ave\, Pine Hill\, NJ\, 08021\, United States
CATEGORIES:Protest,Visibility Event
END:VEVENT
BEGIN:VEVENT
DTSTART;TZID=America/New_York:20251220T130000
DTEND;TZID=America/New_York:20251220T150000
DTSTAMP:20260425T100651
CREATED:20251202T181048Z
LAST-MODIFIED:20251202T181048Z
UID:1290-1766235600-1766242800@crinj.org
SUMMARY:PineHilladelphia Fight for our Rights Saturdays
DESCRIPTION:PineHilladelphia will be setting up every Saturday\, weather permitting\, in the same location across from Trump’s golf course. Visibility is vital right now! We cannot allow this regime to get to the point of forcing us underground. Any Saturday you’re free\, come on out and be seen! Give other’s the courage to stand up and fight!
URL:https://crinj.org/event/pinehilladelphia-fight-for-our-rights-saturdays-10/
LOCATION:PineHilladelphia\, 500 W. Branch Ave\, Pine Hill\, NJ\, 08021\, United States
CATEGORIES:Protest,Visibility Event
END:VEVENT
BEGIN:VEVENT
DTSTART;TZID=America/New_York:20251213T120000
DTEND;TZID=America/New_York:20251213T150000
DTSTAMP:20260425T100651
CREATED:20251104T111627Z
LAST-MODIFIED:20251202T180956Z
UID:1042-1765627200-1765638000@crinj.org
SUMMARY:PineHilladelphia Fight for our Rights Saturdays
DESCRIPTION:PineHilladelphia will be setting up every Saturday\, weather permitting\, in the same location across from Trump’s golf course. Visibility is vital right now! We cannot allow this regime to get to the point of forcing us underground. Any Saturday you’re free\, come on out and be seen! Give other’s the courage to stand up and fight!
URL:https://crinj.org/event/pinehilladelphia-fight-for-our-rights-saturdays-8/
LOCATION:PineHilladelphia\, 500 W. Branch Ave\, Pine Hill\, NJ\, 08021\, United States
CATEGORIES:Protest,Visibility Event
END:VEVENT
BEGIN:VEVENT
DTSTART;TZID=America/New_York:20251206T130000
DTEND;TZID=America/New_York:20251206T150000
DTSTAMP:20260425T100651
CREATED:20251202T180902Z
LAST-MODIFIED:20251202T180902Z
UID:1288-1765026000-1765033200@crinj.org
SUMMARY:PineHilladelphia Fight for our Rights Saturdays
DESCRIPTION:PineHilladelphia will be setting up every Saturday\, weather permitting\, in the same location across from Trump’s golf course. Visibility is vital right now! We cannot allow this regime to get to the point of forcing us underground. Any Saturday you’re free\, come on out and be seen! Give other’s the courage to stand up and fight!
URL:https://crinj.org/event/pinehilladelphia-fight-for-our-rights-saturdays-9/
LOCATION:PineHilladelphia\, 500 W. Branch Ave\, Pine Hill\, NJ\, 08021\, United States
CATEGORIES:Protest,Visibility Event
END:VEVENT
BEGIN:VEVENT
DTSTART;TZID=America/New_York:20251115T130000
DTEND;TZID=America/New_York:20251115T150000
DTSTAMP:20260425T100651
CREATED:20251021T150537Z
LAST-MODIFIED:20251021T150537Z
UID:911-1763211600-1763218800@crinj.org
SUMMARY:PineHilladelphia Fight for our Rights Saturdays
DESCRIPTION:PineHilladelphia will be setting up every Saturday\, weather permitting\, in the same location across from Trump’s golf course. Visibility is vital right now! We cannot allow this regime to get to the point of forcing us underground. Any Saturday you’re free\, come on out and be seen! Give other’s the courage to stand up and fight!
URL:https://crinj.org/event/pinehilladelphia-fight-for-our-rights-saturdays-7/
LOCATION:PineHilladelphia\, 500 W. Branch Ave\, Pine Hill\, NJ\, 08021\, United States
CATEGORIES:Protest,Visibility Event
END:VEVENT
BEGIN:VEVENT
DTSTART;TZID=America/New_York:20251108T130000
DTEND;TZID=America/New_York:20251108T150000
DTSTAMP:20260425T100651
CREATED:20251021T150519Z
LAST-MODIFIED:20251021T150519Z
UID:909-1762606800-1762614000@crinj.org
SUMMARY:PineHilladelphia Fight for our Rights Saturdays
DESCRIPTION:PineHilladelphia will be setting up every Saturday\, weather permitting\, in the same location across from Trump’s golf course. Visibility is vital right now! We cannot allow this regime to get to the point of forcing us underground. Any Saturday you’re free\, come on out and be seen! Give other’s the courage to stand up and fight!
URL:https://crinj.org/event/pinehilladelphia-fight-for-our-rights-saturdays-6/
LOCATION:PineHilladelphia\, 500 W. Branch Ave\, Pine Hill\, NJ\, 08021\, United States
CATEGORIES:Protest,Visibility Event
END:VEVENT
BEGIN:VEVENT
DTSTART;TZID=America/New_York:20251101T130000
DTEND;TZID=America/New_York:20251101T150000
DTSTAMP:20260425T100651
CREATED:20251021T150453Z
LAST-MODIFIED:20251021T150453Z
UID:907-1762002000-1762009200@crinj.org
SUMMARY:PineHilladelphia Fight for our Rights Saturdays
DESCRIPTION:PineHilladelphia will be setting up every Saturday\, weather permitting\, in the same location across from Trump’s golf course. Visibility is vital right now! We cannot allow this regime to get to the point of forcing us underground. Any Saturday you’re free\, come on out and be seen! Give other’s the courage to stand up and fight!
URL:https://crinj.org/event/pinehilladelphia-fight-for-our-rights-saturdays-5/
LOCATION:PineHilladelphia\, 500 W. Branch Ave\, Pine Hill\, NJ\, 08021\, United States
CATEGORIES:Protest,Visibility Event
END:VEVENT
BEGIN:VEVENT
DTSTART;TZID=America/New_York:20251101T120000
DTEND;TZID=America/New_York:20251101T130000
DTSTAMP:20260425T100651
CREATED:20251021T133955Z
LAST-MODIFIED:20251021T133955Z
UID:896-1761998400-1762002000@crinj.org
SUMMARY:Handmaids Brigade GOTV Visibility Event
DESCRIPTION:CRI’s Reproductive Rights Committee is hosting a Handmaid’s Brigade Get Out The Vote visibility event on the eve of the next election. Mikie Sherrill wants to codify reproductive rights in our state constitution\, while Jack Ciattarelli wants a faux-moderate 20-week ban. Women’s rights are on the ballot and the choice is clear.
URL:https://crinj.org/event/handmaids-brigade-gotv-visibility-event/
LOCATION:Cherry Hill Mall Pedestrian Bridge\, 2000 NJ-38\, Cherry Hill\, NJ\, 08002\, United States
CATEGORIES:Visibility Event
END:VEVENT
BEGIN:VEVENT
DTSTART;TZID=America/New_York:20251025T130000
DTEND;TZID=America/New_York:20251025T150000
DTSTAMP:20260425T100651
CREATED:20251021T150429Z
LAST-MODIFIED:20251021T150429Z
UID:905-1761397200-1761404400@crinj.org
SUMMARY:PineHilladelphia Fight for our Rights Saturdays
DESCRIPTION:PineHilladelphia will be setting up every Saturday\, weather permitting\, in the same location across from Trump’s golf course. Visibility is vital right now! We cannot allow this regime to get to the point of forcing us underground. Any Saturday you’re free\, come on out and be seen! Give other’s the courage to stand up and fight!
URL:https://crinj.org/event/pinehilladelphia-fight-for-our-rights-saturdays-4/
LOCATION:PineHilladelphia\, 500 W. Branch Ave\, Pine Hill\, NJ\, 08021\, United States
CATEGORIES:Protest,Visibility Event
END:VEVENT
END:VCALENDAR